BEGIN:VCALENDAR
VERSION:2.0
CALSCALE:GREGORIAN
METHOD:PUBLISH
X-WR-TIMEZONE:Australia/Sydney
BEGIN:VTIMEZONE
TZID:Australia/Sydney
BEGIN:STANDARD
TZNAME:AEST
END:STANDARD
END:VTIMEZONE
BEGIN:VEVENT
DTSTART;TZID=Australia/Sydney:20210504T170000
DTEND;TZID=Australia/Sydney:20210504T190000
RRULE:FREQ=MONTHLY;UNTIL=20210504T190000;BYDAY=2TU
DTSTAMP:20260425T003127
UID:41
SUMMARY:School Council Meeting
DESCRIPTION:







SEQUENCE:0
STATUS:CONFIRMED
TRANSP:OPAQUE
END:VEVENT
END:VCALENDAR